BEGIN:VCALENDAR
VERSION:2.0
PRODID:-//Schwarzachtaler Reit- und Fahrverein Kollerhof e.V. - ECPv6.15.20//NONSGML v1.0//EN
CALSCALE:GREGORIAN
METHOD:PUBLISH
X-WR-CALNAME:Schwarzachtaler Reit- und Fahrverein Kollerhof e.V.
X-ORIGINAL-URL:https://www.rufv-kollerhof.de
X-WR-CALDESC:Veranstaltungen für Schwarzachtaler Reit- und Fahrverein Kollerhof e.V.
REFRESH-INTERVAL;VALUE=DURATION:PT1H
X-Robots-Tag:noindex
X-PUBLISHED-TTL:PT1H
BEGIN:VTIMEZONE
TZID:Europe/Berlin
BEGIN:DAYLIGHT
TZOFFSETFROM:+0100
TZOFFSETTO:+0200
TZNAME:CEST
DTSTART:20250330T010000
END:DAYLIGHT
BEGIN:STANDARD
TZOFFSETFROM:+0200
TZOFFSETTO:+0100
TZNAME:CET
DTSTART:20251026T010000
END:STANDARD
BEGIN:DAYLIGHT
TZOFFSETFROM:+0100
TZOFFSETTO:+0200
TZNAME:CEST
DTSTART:20260329T010000
END:DAYLIGHT
BEGIN:STANDARD
TZOFFSETFROM:+0200
TZOFFSETTO:+0100
TZNAME:CET
DTSTART:20261025T010000
END:STANDARD
BEGIN:DAYLIGHT
TZOFFSETFROM:+0100
TZOFFSETTO:+0200
TZNAME:CEST
DTSTART:20270328T010000
END:DAYLIGHT
BEGIN:STANDARD
TZOFFSETFROM:+0200
TZOFFSETTO:+0100
TZNAME:CET
DTSTART:20271031T010000
END:STANDARD
END:VTIMEZONE
BEGIN:VEVENT
DTSTART;TZID=Europe/Berlin:20261108T080000
DTEND;TZID=Europe/Berlin:20261108T170000
DTSTAMP:20260421T233936
CREATED:20260205T201511Z
LAST-MODIFIED:20260205T201511Z
UID:669-1794124800-1794157200@www.rufv-kollerhof.de
SUMMARY:Leonhardiritt in Seebarn
DESCRIPTION:
URL:https://www.rufv-kollerhof.de/event/leonhardiritt-in-seebarn/
END:VEVENT
BEGIN:VEVENT
DTSTART;TZID=Europe/Berlin:20261113T080000
DTEND;TZID=Europe/Berlin:20261115T170000
DTSTAMP:20260421T233936
CREATED:20260205T201533Z
LAST-MODIFIED:20260205T201533Z
UID:671-1794556800-1794762000@www.rufv-kollerhof.de
SUMMARY:Erwachsenenreitwochenende
DESCRIPTION:
URL:https://www.rufv-kollerhof.de/event/erwachsenenreitwochenende/
END:VEVENT
BEGIN:VEVENT
DTSTART;TZID=Europe/Berlin:20261128T160000
DTEND;TZID=Europe/Berlin:20261128T220000
DTSTAMP:20260421T233936
CREATED:20260205T201614Z
LAST-MODIFIED:20260205T201614Z
UID:673-1795881600-1795903200@www.rufv-kollerhof.de
SUMMARY:Weihnachtsfeier
DESCRIPTION:
URL:https://www.rufv-kollerhof.de/event/weihnachtsfeier-2/
END:VEVENT
END:VCALENDAR