BEGIN:VCALENDAR
VERSION:2.0
PRODID:-//Schwarzachtaler Reit- und Fahrverein Kollerhof e.V. - ECPv6.15.20//NONSGML v1.0//EN
CALSCALE:GREGORIAN
METHOD:PUBLISH
X-WR-CALNAME:Schwarzachtaler Reit- und Fahrverein Kollerhof e.V.
X-ORIGINAL-URL:https://www.rufv-kollerhof.de
X-WR-CALDESC:Veranstaltungen für Schwarzachtaler Reit- und Fahrverein Kollerhof e.V.
REFRESH-INTERVAL;VALUE=DURATION:PT1H
X-Robots-Tag:noindex
X-PUBLISHED-TTL:PT1H
BEGIN:VTIMEZONE
TZID:Europe/Berlin
BEGIN:DAYLIGHT
TZOFFSETFROM:+0100
TZOFFSETTO:+0200
TZNAME:CEST
DTSTART:20240331T010000
END:DAYLIGHT
BEGIN:STANDARD
TZOFFSETFROM:+0200
TZOFFSETTO:+0100
TZNAME:CET
DTSTART:20241027T010000
END:STANDARD
BEGIN:DAYLIGHT
TZOFFSETFROM:+0100
TZOFFSETTO:+0200
TZNAME:CEST
DTSTART:20250330T010000
END:DAYLIGHT
BEGIN:STANDARD
TZOFFSETFROM:+0200
TZOFFSETTO:+0100
TZNAME:CET
DTSTART:20251026T010000
END:STANDARD
BEGIN:DAYLIGHT
TZOFFSETFROM:+0100
TZOFFSETTO:+0200
TZNAME:CEST
DTSTART:20260329T010000
END:DAYLIGHT
BEGIN:STANDARD
TZOFFSETFROM:+0200
TZOFFSETTO:+0100
TZNAME:CET
DTSTART:20261025T010000
END:STANDARD
END:VTIMEZONE
BEGIN:VEVENT
DTSTART;TZID=Europe/Berlin:20250510T080000
DTEND;TZID=Europe/Berlin:20250511T170000
DTSTAMP:20260422T102126
CREATED:20250409T182814Z
LAST-MODIFIED:20250409T182815Z
UID:128-1746864000-1746982800@www.rufv-kollerhof.de
SUMMARY:Dressurkurs mit Julia Kohl
DESCRIPTION:
URL:https://www.rufv-kollerhof.de/event/dressurkurs-mit-julia-kohl/
END:VEVENT
BEGIN:VEVENT
DTSTART;TZID=Europe/Berlin:20250510T093000
DTEND;TZID=Europe/Berlin:20250510T153000
DTSTAMP:20260422T102126
CREATED:20250409T182632Z
LAST-MODIFIED:20250409T183438Z
UID:123-1746869400-1746891000@www.rufv-kollerhof.de
SUMMARY:Tagesritt zum Fuhrner Aussichtsturm
DESCRIPTION:
URL:https://www.rufv-kollerhof.de/event/tagesritt-zum-fuhrner-aussichtsturm/
END:VEVENT
BEGIN:VEVENT
DTSTART;TZID=Europe/Berlin:20250529T070000
DTEND;TZID=Europe/Berlin:20250529T180000
DTSTAMP:20260422T102126
CREATED:20250407T044846Z
LAST-MODIFIED:20250511T184844Z
UID:21-1748502000-1748541600@www.rufv-kollerhof.de
SUMMARY:Pferd International
DESCRIPTION:Abfahrt: 07:00 am Kollerhof\nRückfahrt in München Riem: 18:00\nAnmeldung über die Liste im Stall. \nPferd International
URL:https://www.rufv-kollerhof.de/event/pferd-international/
LOCATION:München
END:VEVENT
END:VCALENDAR