BEGIN:VCALENDAR
VERSION:2.0
PRODID:-//Schwarzachtaler Reit- und Fahrverein Kollerhof e.V. - ECPv6.15.20//NONSGML v1.0//EN
CALSCALE:GREGORIAN
METHOD:PUBLISH
X-WR-CALNAME:Schwarzachtaler Reit- und Fahrverein Kollerhof e.V.
X-ORIGINAL-URL:https://www.rufv-kollerhof.de
X-WR-CALDESC:Veranstaltungen für Schwarzachtaler Reit- und Fahrverein Kollerhof e.V.
REFRESH-INTERVAL;VALUE=DURATION:PT1H
X-Robots-Tag:noindex
X-PUBLISHED-TTL:PT1H
BEGIN:VTIMEZONE
TZID:Europe/Berlin
BEGIN:DAYLIGHT
TZOFFSETFROM:+0100
TZOFFSETTO:+0200
TZNAME:CEST
DTSTART:20250330T010000
END:DAYLIGHT
BEGIN:STANDARD
TZOFFSETFROM:+0200
TZOFFSETTO:+0100
TZNAME:CET
DTSTART:20251026T010000
END:STANDARD
BEGIN:DAYLIGHT
TZOFFSETFROM:+0100
TZOFFSETTO:+0200
TZNAME:CEST
DTSTART:20260329T010000
END:DAYLIGHT
BEGIN:STANDARD
TZOFFSETFROM:+0200
TZOFFSETTO:+0100
TZNAME:CET
DTSTART:20261025T010000
END:STANDARD
BEGIN:DAYLIGHT
TZOFFSETFROM:+0100
TZOFFSETTO:+0200
TZNAME:CEST
DTSTART:20270328T010000
END:DAYLIGHT
BEGIN:STANDARD
TZOFFSETFROM:+0200
TZOFFSETTO:+0100
TZNAME:CET
DTSTART:20271031T010000
END:STANDARD
END:VTIMEZONE
BEGIN:VEVENT
DTSTART;TZID=Europe/Berlin:20260425T080000
DTEND;TZID=Europe/Berlin:20260426T180000
DTSTAMP:20260421T163157
CREATED:20260408T190243Z
LAST-MODIFIED:20260408T190318Z
UID:750-1777104000-1777226400@www.rufv-kollerhof.de
SUMMARY:Dressurkurs mit Julia Kohl
DESCRIPTION:Bei Interesse bitte in die Liste im Stall eintragen.
URL:https://www.rufv-kollerhof.de/event/dressurkurs-mit-julia-kohl-2/
END:VEVENT
END:VCALENDAR