BEGIN:VCALENDAR
VERSION:2.0
PRODID:-//Schwarzachtaler Reit- und Fahrverein Kollerhof e.V. - ECPv6.15.20//NONSGML v1.0//EN
CALSCALE:GREGORIAN
METHOD:PUBLISH
X-WR-CALNAME:Schwarzachtaler Reit- und Fahrverein Kollerhof e.V.
X-ORIGINAL-URL:https://www.rufv-kollerhof.de
X-WR-CALDESC:Veranstaltungen für Schwarzachtaler Reit- und Fahrverein Kollerhof e.V.
REFRESH-INTERVAL;VALUE=DURATION:PT1H
X-Robots-Tag:noindex
X-PUBLISHED-TTL:PT1H
BEGIN:VTIMEZONE
TZID:Europe/Berlin
BEGIN:DAYLIGHT
TZOFFSETFROM:+0100
TZOFFSETTO:+0200
TZNAME:CEST
DTSTART:20250330T010000
END:DAYLIGHT
BEGIN:STANDARD
TZOFFSETFROM:+0200
TZOFFSETTO:+0100
TZNAME:CET
DTSTART:20251026T010000
END:STANDARD
BEGIN:DAYLIGHT
TZOFFSETFROM:+0100
TZOFFSETTO:+0200
TZNAME:CEST
DTSTART:20260329T010000
END:DAYLIGHT
BEGIN:STANDARD
TZOFFSETFROM:+0200
TZOFFSETTO:+0100
TZNAME:CET
DTSTART:20261025T010000
END:STANDARD
BEGIN:DAYLIGHT
TZOFFSETFROM:+0100
TZOFFSETTO:+0200
TZNAME:CEST
DTSTART:20270328T010000
END:DAYLIGHT
BEGIN:STANDARD
TZOFFSETFROM:+0200
TZOFFSETTO:+0100
TZNAME:CET
DTSTART:20271031T010000
END:STANDARD
END:VTIMEZONE
BEGIN:VEVENT
DTSTART;TZID=Europe/Berlin:20260321T080000
DTEND;TZID=Europe/Berlin:20260322T170000
DTSTAMP:20260421T182621
CREATED:20260205T201257Z
LAST-MODIFIED:20260223T060208Z
UID:659-1774080000-1774198800@www.rufv-kollerhof.de
SUMMARY:Dressurturnier ℹ️
DESCRIPTION: Wir freuen uns auf unser Dressurturnier 2026! \nFreut euch auf ein abwechslungsreiches Prüfungsangebot vom Reitpferdebereich bis zur Klasse M*\, spannende Ritte und ein sportliches Wochenende in toller Atmosphäre. Ob Nachwuchsreiter\, ambitionierter Amateur oder erfahrenes Turnierpaar – bei uns ist für jeden etwas dabei!\n Turnierübersicht – Unsere Prüfungen1. Reitpferdeprüfung2. Amateur-Dressurpferdeprfg. Kl.A3. Amateur-Dressurreiterprüfung Kl.A4. Dressurprüfung Kl.A**5. Amateur-Dressurprüfung Kl.A*6. Amateur-Dressurreiterprüfung Kl.A7. Dressurprfg. Kl.L* – Tr.8. Amateur-Dressurreiterprüfung Kl.L* Trense9. Dressurprüfung Kl.M* Kandare10. Dressurprfg. Kl.L*11. Dressur-WB (DW 1\, 2 bis 4 Reiter)12. Reiter-WB Schritt – Trab – Galopp\n RichterInnen:Josefine Fischer\, Christine Irl\, Gabi Popp\n Online-Nennschluss: 02.03.2026\, 18:00 Uhr Online-Nachnennschluss: 20.03.2026\, 12:00 Uhr\n Für das leibliche Wohl ist bestens gesorgt!\nWir freuen uns auf zahlreiche Nennungen\, faire sportliche Wettbewerbe und viele bekannte und neue Gesichter! 
URL:https://www.rufv-kollerhof.de/event/dressurturnier/
END:VEVENT
END:VCALENDAR