BEGIN:VCALENDAR
VERSION:2.0
PRODID:-//Schwarzachtaler Reit- und Fahrverein Kollerhof e.V. - ECPv6.15.20//NONSGML v1.0//EN
CALSCALE:GREGORIAN
METHOD:PUBLISH
X-WR-CALNAME:Schwarzachtaler Reit- und Fahrverein Kollerhof e.V.
X-ORIGINAL-URL:https://www.rufv-kollerhof.de
X-WR-CALDESC:Veranstaltungen für Schwarzachtaler Reit- und Fahrverein Kollerhof e.V.
REFRESH-INTERVAL;VALUE=DURATION:PT1H
X-Robots-Tag:noindex
X-PUBLISHED-TTL:PT1H
BEGIN:VTIMEZONE
TZID:Europe/Berlin
BEGIN:DAYLIGHT
TZOFFSETFROM:+0100
TZOFFSETTO:+0200
TZNAME:CEST
DTSTART:20240331T010000
END:DAYLIGHT
BEGIN:STANDARD
TZOFFSETFROM:+0200
TZOFFSETTO:+0100
TZNAME:CET
DTSTART:20241027T010000
END:STANDARD
BEGIN:DAYLIGHT
TZOFFSETFROM:+0100
TZOFFSETTO:+0200
TZNAME:CEST
DTSTART:20250330T010000
END:DAYLIGHT
BEGIN:STANDARD
TZOFFSETFROM:+0200
TZOFFSETTO:+0100
TZNAME:CET
DTSTART:20251026T010000
END:STANDARD
BEGIN:DAYLIGHT
TZOFFSETFROM:+0100
TZOFFSETTO:+0200
TZNAME:CEST
DTSTART:20260329T010000
END:DAYLIGHT
BEGIN:STANDARD
TZOFFSETFROM:+0200
TZOFFSETTO:+0100
TZNAME:CET
DTSTART:20261025T010000
END:STANDARD
END:VTIMEZONE
BEGIN:VEVENT
DTSTART;TZID=Europe/Berlin:20251227T190000
DTEND;TZID=Europe/Berlin:20251227T233000
DTSTAMP:20260421T235649
CREATED:20250409T183122Z
LAST-MODIFIED:20251222T160946Z
UID:140-1766862000-1766878200@www.rufv-kollerhof.de
SUMMARY:Christbaumversteigerung
DESCRIPTION:
URL:https://www.rufv-kollerhof.de/event/christbaumversteigerung/
END:VEVENT
END:VCALENDAR